BEGIN:VCALENDAR
VERSION:2.0
PRODID:-//Mariacutty - ECPv6.5.1.4//NONSGML v1.0//EN
CALSCALE:GREGORIAN
METHOD:PUBLISH
X-ORIGINAL-URL:https://mariacutty.org
X-WR-CALDESC:Events for Mariacutty
REFRESH-INTERVAL;VALUE=DURATION:PT1H
X-Robots-Tag:noindex
X-PUBLISHED-TTL:PT1H
BEGIN:VTIMEZONE
TZID:UTC
BEGIN:STANDARD
TZOFFSETFROM:+0000
TZOFFSETTO:+0000
TZNAME:UTC
DTSTART:20190101T000000
END:STANDARD
END:VTIMEZONE
BEGIN:VEVENT
DTSTART;VALUE=DATE:20191214
DTEND;VALUE=DATE:20191215
DTSTAMP:20260423T182410
CREATED:20220808T185417Z
LAST-MODIFIED:20220808T185710Z
UID:1215-1576281600-1576367999@mariacutty.org
SUMMARY:What do women want?  Come let us Discuss
DESCRIPTION:A women only event.
URL:https://mariacutty.org/event/what-do-women-want-come-let-us-discuss/
LOCATION:Kaduna International School\, No 1 Wurno road\,\, Kaduna\, Kaduna\, 234\, Nigeria
ATTACH;FMTTYPE=image/jpeg:https://mariacutty.org/wp-content/uploads/2022/08/IMG-20220808-WA0009.jpg
ORGANIZER;CN="Mariacutty Empowerment Foundation":MAILTO:info@mariacutty.org
END:VEVENT
END:VCALENDAR