BEGIN:VCALENDAR
VERSION:2.0
PRODID:-//Mariacutty - ECPv6.5.1.4//NONSGML v1.0//EN
CALSCALE:GREGORIAN
METHOD:PUBLISH
X-WR-CALNAME:Mariacutty
X-ORIGINAL-URL:https://mariacutty.org
X-WR-CALDESC:Events for Mariacutty
REFRESH-INTERVAL;VALUE=DURATION:PT1H
X-Robots-Tag:noindex
X-PUBLISHED-TTL:PT1H
BEGIN:VTIMEZONE
TZID:UTC
BEGIN:STANDARD
TZOFFSETFROM:+0000
TZOFFSETTO:+0000
TZNAME:UTC
DTSTART:20190101T000000
END:STANDARD
END:VTIMEZONE
BEGIN:VEVENT
DTSTART;TZID=UTC:20190427T150000
DTEND;TZID=UTC:20190427T160000
DTSTAMP:20260424T064202
CREATED:20220808T193823Z
LAST-MODIFIED:20220808T193823Z
UID:1248-1556377200-1556380800@mariacutty.org
SUMMARY:Parenting
DESCRIPTION:Parents need to start parenting and treating children as the children are not as the parents want them to be.
URL:https://mariacutty.org/event/parenting/
LOCATION:Kaduna International School\, No 1 Wurno road\,\, Kaduna\, Kaduna\, 234\, Nigeria
ATTACH;FMTTYPE=image/jpeg:https://mariacutty.org/wp-content/uploads/2022/08/IMG-20220808-WA0015.jpg
ORGANIZER;CN="Mariacutty Empowerment Foundation":MAILTO:info@mariacutty.org
END:VEVENT
END:VCALENDAR